BEGIN:VCALENDAR
VERSION:2.0
PRODID:-//ISCC - ECPv6.15.20//NONSGML v1.0//EN
CALSCALE:GREGORIAN
METHOD:PUBLISH
X-WR-CALNAME:ISCC
X-ORIGINAL-URL:https://isccpa.org
X-WR-CALDESC:Events for ISCC
REFRESH-INTERVAL;VALUE=DURATION:PT1H
X-Robots-Tag:noindex
X-PUBLISHED-TTL:PT1H
BEGIN:VTIMEZONE
TZID:UTC
BEGIN:STANDARD
TZOFFSETFROM:+0000
TZOFFSETTO:+0000
TZNAME:UTC
DTSTART:20240101T000000
END:STANDARD
END:VTIMEZONE
BEGIN:VEVENT
DTSTART;TZID=UTC:20260329T140000
DTEND;TZID=UTC:20260329T160000
DTSTAMP:20260423T221025
CREATED:20260319T212115Z
LAST-MODIFIED:20260319T212115Z
UID:5192-1774792800-1774800000@isccpa.org
SUMMARY:Movie Day Fundraiser
DESCRIPTION:AMAL FOR YEMEN PRESENTS\nKids Movie Day\nFundraiser for Orphan Refugees in Yemen!\nJoin us for a fun\, family-friendly movie night and help bring joy and support to orphans in Yemen. \nEvent Details\n•    Date: Sunday\, March 29\n•    Time: 2:00 pm – 4:00 pm\n•    Location: ISCC – Islamic\nSociety of Chester County\n•    Address: 1001 Pottstown Pike\, West Chester\, PA 19380 \nMovie: Madagascar\nFood and drinks will be provided \nEntry\n•    $10 per person\n•    All proceeds go to orphans in Yemen through Helping Hand Relief and Development \nhttps://forms.gle/DzUnvZKYxPVBbsCZ7
URL:https://isccpa.org/event/movie-day-fundraiser/
LOCATION:ISCC Activity Hall\, 1001 Pottstown Pike\, West Chester\, PA\, 19380\, United States
CATEGORIES:Dynamic
ATTACH;FMTTYPE=image/jpeg:https://isccpa.org/wp-content/uploads/2026/03/WhatsApp-Image-2026-03-17-at-12.48.13-PM.jpeg
ORGANIZER;CN="ISCC":MAILTO:isccpaboard@yahoo.com
END:VEVENT
BEGIN:VEVENT
DTSTART;TZID=UTC:20260321T140000
DTEND;TZID=UTC:20260321T180000
DTSTAMP:20260423T221026
CREATED:20260315T190140Z
LAST-MODIFIED:20260315T190140Z
UID:5188-1774101600-1774116000@isccpa.org
SUMMARY:EID CARNIVAL FOR KIDS
DESCRIPTION:🌙🎉 Announcing the first ISCC Eid Carnival 🎉🌙 \nAs we celebrate the end of Ramadan and welcome Eid\, we’re excited to host an Eid Carnival for our families and kids\, inshaAllah! There will be moon bounces\, games\, and plenty of fun activities for children to enjoy. Food will also be available for purchase. \n🗓 Saturday\, March 21st\n⏰ 2:00 PM – 6:00 PM \nTo help us plan and make sure we have enough games and activities for everyone\, please complete the registration form by Thursday\, March 19th. \nRegistration Fee:\n$10 per person above 12 years old\n$5 per child (under 12) \nThe small fee helps us get an accurate headcount and cover the cost of the activities we’re arranging. \nPlease sign up\, bring your kids\, and come celebrate together as a community! 🌙✨ \nRSVP here: https://forms.gle/yAQ4EZxzBBmbgFTA6
URL:https://isccpa.org/event/eid-carnival-for-kids/
LOCATION:ISCC Activity Hall\, 1001 Pottstown Pike\, West Chester\, PA\, 19380\, United States
CATEGORIES:Dynamic
ATTACH;FMTTYPE=image/jpeg:https://isccpa.org/wp-content/uploads/2026/03/WhatsApp-Image-2026-03-15-at-2.13.59-PM.jpeg
ORGANIZER;CN="ISCC":MAILTO:isccpaboard@yahoo.com
END:VEVENT
BEGIN:VEVENT
DTSTART;TZID=UTC:20260320T070000
DTEND;TZID=UTC:20260320T223000
DTSTAMP:20260423T221026
CREATED:20260312T220001Z
LAST-MODIFIED:20260312T220001Z
UID:5180-1773990000-1774045800@isccpa.org
SUMMARY:Eid Prayers
DESCRIPTION:
URL:https://isccpa.org/event/eid-prayers/
LOCATION:ISCC Prayer Hall\, 1001 Pottstown Pike\, West Chester\, PA\, 19380\, United States
CATEGORIES:Dynamic
ATTACH;FMTTYPE=image/jpeg:https://isccpa.org/wp-content/uploads/2026/03/WhatsApp-Image-2026-03-12-at-9.30.05-AM.jpeg
ORGANIZER;CN="ISCC":MAILTO:isccpaboard@yahoo.com
END:VEVENT
BEGIN:VEVENT
DTSTART;TZID=UTC:20260319T220000
DTEND;TZID=UTC:20260319T233000
DTSTAMP:20260423T221026
CREATED:20260303T173640Z
LAST-MODIFIED:20260303T173640Z
UID:5173-1773957600-1773963000@isccpa.org
SUMMARY:ITIKAF Registration
DESCRIPTION:Assalamu Alaikum \nOur mother\, Sayyida Aisha described our Beloved Messenger ﷺ as exerting himself even more so in the last ten nights of Ramadan. The Prophet ﷺ would spend I’tikaf in his blessed mosque to teach us to direct ourselves to Allah with even greater need and focus. It is a Sunna that Muslims observe by secluding themselves in a room or in a part of the mosque in order to spend all of one’s time in worship and devotion. \nThe blessed Sunna of I’tikaf provides us with an opportunity to have our hearts be even more present with Allah and to turn to Him with greater focus by being in an environment that minimizes distractions and worldly responsibilities. \nMay Allah the Exalted accept our worship\, enable us to see the last ten days of Ramadan and witness Laylatul Qadr in all its splendor and protect our communities\, families\, loved ones\, and all the Muslims. \nIf you intend to perform I‘tikaf in the masjid\, please sign up as soon as possible so we can prepare accordingly and ensure a smooth experience for everyone. \nLink to sign up: https://forms.gle/Z8pLxZYgYwjtTDfN9
URL:https://isccpa.org/event/itikaf-registration/
LOCATION:ISCC Prayer Hall\, 1001 Pottstown Pike\, West Chester\, PA\, 19380\, United States
CATEGORIES:Dynamic
ATTACH;FMTTYPE=image/jpeg:https://isccpa.org/wp-content/uploads/2026/03/WhatsApp-Image-2026-03-03-at-10.57.12-AM.jpeg
ORGANIZER;CN="ISCC":MAILTO:isccpaboard@yahoo.com
END:VEVENT
BEGIN:VEVENT
DTSTART;TZID=UTC:20260227T230000
DTEND;TZID=UTC:20260227T233000
DTSTAMP:20260423T221026
CREATED:20260225T035125Z
LAST-MODIFIED:20260225T041409Z
UID:5167-1772233200-1772235000@isccpa.org
SUMMARY:Ramadan Qiyam Night
DESCRIPTION:🌙✨ Ramadan Youth Qiyam Night ✨🌙 \nRiwaq Institute is partnering with ISCC to host a special Youth Qiyam Night this Ramadan — a night dedicated to reconnecting with the Qur’an\, strengthening our hearts\, and building brotherhood and sisterhood for the sake of Allah. \nJoin us for:\n📖 Qur’an recitations |🎶 Nasheed |💭 Reflections & Q&A | 🤲 Tahajjud prayer | 🌙 Suhoor & Fajr together \nThis is a beautiful opportunity for our youth (ages 13+) to spend the night in worship\, remembrance\, and meaningful connection in a welcoming and uplifting environment. \n🗓 Friday\, February 27th\n⏰ 11:30 PM\n📍 Islamic Society of Chester County (ISCC) \nSpots are limited\, so be sure to register using the link below:\n🔗 https://www.riwaqinstitute.org/events/2026/qiyamnight?utm_source=ig&utm_medium=social&utm_content=link_in_bio \nBring a friend and come ready for a night that will recharge your iman and set the tone for the rest of Ramadan. 🌙🤍
URL:https://isccpa.org/event/ramadan-qiyam-night/
LOCATION:ISCC Activity Hall\, 1001 Pottstown Pike\, West Chester\, PA\, 19380\, United States
CATEGORIES:Dynamic
ATTACH;FMTTYPE=image/jpeg:https://isccpa.org/wp-content/uploads/2026/02/WhatsApp-Image-2026-02-24-at-12.29.21-PM.jpeg
ORGANIZER;CN="ISCC":MAILTO:isccpaboard@yahoo.com
END:VEVENT
BEGIN:VEVENT
DTSTART;TZID=UTC:20260221T163000
DTEND;TZID=UTC:20260221T193000
DTSTAMP:20260423T221026
CREATED:20260104T213539Z
LAST-MODIFIED:20260216T165649Z
UID:5125-1771691400-1771702200@isccpa.org
SUMMARY:ISCC Annual Fundraiser Iftar
DESCRIPTION:Assalamu Alaikum 🌙✨ \nWe invite you and your families to join us for our *Annual Fundraiser* this coming Saturday\, February 21\, InshaAllah 🤲🏽💙 Please come and support your masjid and your community 🕌 Your presence and generosity will help us continue serving everyone throughout the year 🌟 \nIn addition\, we will be hosting:\n🌙 Community Iftars every Saturday throughout Ramadan\n🍽️ Daily Iftar at the masjid for anyone who would like to come and benefit \nEveryone is encouraged to attend 🤝 Bring your family and friends and be part of the khayr 💛✨ \nCommunity members are also welcome to donate toward the Community Iftars 🤲🏽 You may:\n📝 Write a check (please mention “Community Iftar” in the memo)\n💳 Send your contribution via PayPal\, Venmo\, or Zelle (please indicate “Community Iftar” in the notes) \nMembers may also contribute toward the weekly iftar that ISCC is sponsoring for the West Chester University MSA 🎓🌙 This is a beautiful
URL:https://isccpa.org/event/ramadan-save-the-dates/
LOCATION:ISCC Activity Hall\, 1001 Pottstown Pike\, West Chester\, PA\, 19380\, United States
CATEGORIES:Dynamic
ATTACH;FMTTYPE=image/jpeg:https://isccpa.org/wp-content/uploads/2026/01/WhatsApp-Image-2026-02-16-at-10.40.56-AM.jpeg
ORGANIZER;CN="ISCC":MAILTO:isccpaboard@yahoo.com
END:VEVENT
BEGIN:VEVENT
DTSTART;TZID=UTC:20260219T193000
DTEND;TZID=UTC:20260320T220000
DTSTAMP:20260423T221026
CREATED:20260213T122929Z
LAST-MODIFIED:20260213T122929Z
UID:5157-1771529400-1774044000@isccpa.org
SUMMARY:Our Huffaz for Tarahweeh this Ramadan
DESCRIPTION:Assalamu Alaikum \nاللَّهُمَّ بَلِّغْنَا رَمَضَان، اللَّهُمَّ سَلِّمْنَا لِرَمَضَان، وَسَلِّمْ رَمَضَانَ لَنَا، وَتَسَلَّمْهُ مِنَّا مُتَقَبَّلًا.O Allah\, allow us to reach Ramadan; keep us safe for Ramadan; preserve Ramadan for us; and accept it from us. \nWe pray this message finds you all in the best of health and iman. \nThe Fiqh Council has announced the dates for the upcoming blessed month of Ramadan\, InshaAllah. Ramadan will begin on Wednesday\, February 18th. Salat al-Taraweeh will begin on Tuesday night\, with Isha Iqama at 7:30pm inShaaAllah. \nAs we approach this sacred month\, we ask Allah (SWT) to allow us to fully benefit from Ramadan\, to accept our fasting\, prayers\, and good deeds\, and to fill this month with mercy\, forgiveness\, and blessings for our entire community. \nPlease keep the community in your duas
URL:https://isccpa.org/event/our-huffaz-for-tarahweeh-this-ramadan/
LOCATION:ISCC Prayer Hall\, 1001 Pottstown Pike\, West Chester\, PA\, 19380\, United States
CATEGORIES:Dynamic
ATTACH;FMTTYPE=image/jpeg:https://isccpa.org/wp-content/uploads/2026/02/WhatsApp-Image-2026-02-12-at-11.07.36-AM.jpeg
ORGANIZER;CN="ISCC":MAILTO:isccpaboard@yahoo.com
END:VEVENT
BEGIN:VEVENT
DTSTART;TZID=UTC:20260214T173000
DTEND;TZID=UTC:20260214T193000
DTSTAMP:20260423T221026
CREATED:20260204T235119Z
LAST-MODIFIED:20260204T235119Z
UID:5147-1771090200-1771097400@isccpa.org
SUMMARY:Monthly Halaqa
DESCRIPTION:Assalamualikum the monthly halaqa will be on Saturday February 14th inshallah with Shaikh Ismail Bowers with the topic Welcoming Ramadan
URL:https://isccpa.org/event/monthly-halaqa-2/
LOCATION:ISCC Prayer Hall\, 1001 Pottstown Pike\, West Chester\, PA\, 19380\, United States
CATEGORIES:Dynamic
ATTACH;FMTTYPE=image/jpeg:https://isccpa.org/wp-content/uploads/2026/02/WhatsApp-Image-2026-02-04-at-12.32.49-PM.jpeg
ORGANIZER;CN="ISCC":MAILTO:isccpaboard@yahoo.com
END:VEVENT
BEGIN:VEVENT
DTSTART;TZID=UTC:20260201T120000
DTEND;TZID=UTC:20260201T183000
DTSTAMP:20260423T221026
CREATED:20260122T130505Z
LAST-MODIFIED:20260122T130505Z
UID:5141-1769947200-1769970600@isccpa.org
SUMMARY:Ramadan Bazaar
DESCRIPTION:Assalamu Alaikum\, \nPlease join us for the\nISCC Ramadan Bazaar on Sunday\, February 1st\, from 12:00–6:00 PM at ISCC. Enjoy delicious food\, shopping\, and the opportunity to support local Muslim-owned businesses\, insha’Allah. \nSee the flyer for full details. We look forward to welcoming you and your families. Jazakum Allahu khairan.
URL:https://isccpa.org/event/ramadan-bazaar/
LOCATION:ISCC Activity Hall\, 1001 Pottstown Pike\, West Chester\, PA\, 19380\, United States
CATEGORIES:Dynamic
ATTACH;FMTTYPE=image/jpeg:https://isccpa.org/wp-content/uploads/2026/01/WhatsApp-Image-2026-01-21-at-10.40.13-AM.jpeg
ORGANIZER;CN="ISCC":MAILTO:isccpaboard@yahoo.com
END:VEVENT
BEGIN:VEVENT
DTSTART;TZID=UTC:20260130T173000
DTEND;TZID=UTC:20260130T190000
DTSTAMP:20260423T221026
CREATED:20260120T021552Z
LAST-MODIFIED:20260120T021552Z
UID:5138-1769794200-1769799600@isccpa.org
SUMMARY:Youth Girls Halaqa and Tasbeeh Making
DESCRIPTION:Youth Girls Halaqa & Tasbeeh Making \nJoin us for a special Youth Girls Halaqa and Tasbeeh Making workshop as we prepare our hearts for Ramadan in a meaningful and creative way. \nThis gathering will include reflection\, sisterhood\, and a hands-on tasbeeh-making activity. \n🗓 Date: January 30th\n🕔 Maghrib Prayer: 5:30 PM\n👧 Ages: 13–25\n📍 Led by: Ustadha Marjaan\n🕌 Topic: Ramadan Prep Workshop \nThis event is a wonderful opportunity for young sisters to connect\, learn\, and get spiritually ready for the blessed month ahead. \n✨ Please RSVP so we can plan accordingly.\n🔗 Register here: https://forms.gle/LNkqY3UtGYeSDsgDA
URL:https://isccpa.org/event/youth-girls-halaqa-and-tasbeeh-making/
LOCATION:ISCC Activity Hall\, 1001 Pottstown Pike\, West Chester\, PA\, 19380\, United States
CATEGORIES:Dynamic
ATTACH;FMTTYPE=image/jpeg:https://isccpa.org/wp-content/uploads/2026/01/WhatsApp-Image-2026-01-19-at-9.00.20-PM.jpeg
ORGANIZER;CN="ISCC":MAILTO:isccpaboard@yahoo.com
END:VEVENT
BEGIN:VEVENT
DTSTART;TZID=UTC:20260124T190000
DTEND;TZID=UTC:20260124T230000
DTSTAMP:20260423T221026
CREATED:20251208T175525Z
LAST-MODIFIED:20251210T230632Z
UID:4946-1769281200-1769295600@isccpa.org
SUMMARY:Ladies Night In
DESCRIPTION:Please RSVP to this link https://partiful.com/e/8gKnvRXRHhq6bfjOObgv
URL:https://isccpa.org/event/ladies-night-in/
LOCATION:ISCC Prayer Hall\, 1001 Pottstown Pike\, West Chester\, PA\, 19380\, United States
CATEGORIES:Dynamic
ATTACH;FMTTYPE=image/jpeg:https://isccpa.org/wp-content/uploads/2025/12/WhatsApp-Image-2025-12-01-at-5.48.14-PM.jpeg
ORGANIZER;CN="ISCC":MAILTO:isccpaboard@yahoo.com
END:VEVENT
BEGIN:VEVENT
DTSTART;TZID=UTC:20260118T131500
DTEND;TZID=UTC:20260118T170000
DTSTAMP:20260423T221026
CREATED:20260114T124800Z
LAST-MODIFIED:20260114T124800Z
UID:5134-1768742100-1768755600@isccpa.org
SUMMARY:Youth Boys Day Halaqa And Sports
DESCRIPTION:We’re excited to invite our youth boys (ages 13+) to a fun and meaningful halaqa and game day! Join us for an afternoon of halaqa\, games\, and brotherhood. \n🗓 Sunday\, January 18th\n🕰 Zuhr (Prayer at 1:15 PM) \nThis is a great opportunity to connect\, reflect\, and spend time together \nPlease RSVP ahead of time so we can plan accordingly. \nRSVP here:https://forms.gle/bzafpksE8keBuDGt6
URL:https://isccpa.org/event/youth-boys-day-halaqa-and-sports/
LOCATION:ISCC Activity Hall\, 1001 Pottstown Pike\, West Chester\, PA\, 19380\, United States
CATEGORIES:Dynamic
ATTACH;FMTTYPE=image/jpeg:https://isccpa.org/wp-content/uploads/2026/01/WhatsApp-Image-2026-01-13-at-1.33.49-PM.jpeg
ORGANIZER;CN="ISCC":MAILTO:isccpaboard@yahoo.com
END:VEVENT
BEGIN:VEVENT
DTSTART;TZID=UTC:20260109T180000
DTEND;TZID=UTC:20260109T190000
DTSTAMP:20260423T221026
CREATED:20260108T205015Z
LAST-MODIFIED:20260108T205015Z
UID:5129-1767981600-1767985200@isccpa.org
SUMMARY:Sisters Seerah Halaqah with Sis. Khadijah
DESCRIPTION:9th January 2026 \n 
URL:https://isccpa.org/event/sisters-seerah-halaqah-with-sis-khadijah/
LOCATION:ISCC Prayer Hall\, 1001 Pottstown Pike\, West Chester\, PA\, 19380\, United States
CATEGORIES:Dynamic
ATTACH;FMTTYPE=image/jpeg:https://isccpa.org/wp-content/uploads/2026/01/WhatsApp-Image-2026-01-08-at-8.34.24-AM.jpeg
ORGANIZER;CN="ISCC":MAILTO:isccpaboard@yahoo.com
END:VEVENT
BEGIN:VEVENT
DTSTART;TZID=UTC:20260103T110000
DTEND;TZID=UTC:20260103T180000
DTSTAMP:20260423T221026
CREATED:20260103T020928Z
LAST-MODIFIED:20260103T143123Z
UID:5121-1767438000-1767463200@isccpa.org
SUMMARY:Biography Of The Prophet
DESCRIPTION:✨ 3-Day Seerah Intensive ✨ \nIn partnership with Riwaq\, ISGVF\, ISCC\, and Khair \n🗓️ Starting tomorrow \n🕙 10:00 AM – 6:00 PM\n* Jan 1 – ISGVF\n* Jan 3 – ISCC\n* Jan 4 – Khair \nJoin us for the Riwaq Winter Intensive\, where we will cover the entire Seerah (biography) of the Prophet ﷺ. The Seerah serves as a timeless guide for Muslims\, helping us navigate our lives through the example of the greatest human being. \nWe will explore the major events of his life\, including his birth\, life before prophethood\, da‘wah in Makkah\, the Hijrah\, life in Madinah\, key battles\, and his passing ﷺ. \n🔗 RSVP is required:\nhttps://www.riwaqinstitute.org/events/seerah
URL:https://isccpa.org/event/biography-of-the-prophet/
LOCATION:ISCC Prayer Hall\, 1001 Pottstown Pike\, West Chester\, PA\, 19380\, United States
CATEGORIES:Dynamic
ATTACH;FMTTYPE=image/jpeg:https://isccpa.org/wp-content/uploads/2026/01/WhatsApp-Image-2025-12-31-at-1.16.23-PM.jpeg
ORGANIZER;CN="ISCC":MAILTO:isccpaboard@yahoo.com
END:VEVENT
BEGIN:VEVENT
DTSTART;TZID=UTC:20260103T100000
DTEND;TZID=UTC:20260103T173000
DTSTAMP:20260423T221026
CREATED:20251208T175110Z
LAST-MODIFIED:20251210T230638Z
UID:4941-1767434400-1767461400@isccpa.org
SUMMARY:3-Day Seerah Intensive
DESCRIPTION:3-Day Seerah Intensive \nIn partnership with Riwaq\, ISGVF\, ISCC\, and Khair. \nJanuary 1st\, 3rd\, and 4th \nJan 1st — 10AM-6PM (ISGVF)\nJan 3rd — 10AM-6PM (ISCC)\nJan 4th — 10AM-3PM (Khair) \nFree Event \nJoin us for the Riwaq Winter Intensive in which we will cover the entire seerah (biography) of the Prophet ﷺ. The seerah serves as a guide for all Muslims to navigate their own lives and learn from the example of the greatest human being. We will delve into the major events that occurred during his lifetime such as his birth\, life before prophethood\, dawah in Makkah\, Hijra\, life in madinah\, various battles\, and his passing. \nRSVP is required: https://www.riwaqinstitute.org/events/seerah
URL:https://isccpa.org/event/3-day-seerah-intensive/
LOCATION:ISCC Prayer Hall\, 1001 Pottstown Pike\, West Chester\, PA\, 19380\, United States
CATEGORIES:Dynamic
ATTACH;FMTTYPE=image/jpeg:https://isccpa.org/wp-content/uploads/2025/12/WhatsApp-Image-2025-12-03-at-9.17.15-AM.jpeg
END:VEVENT
BEGIN:VEVENT
DTSTART;TZID=UTC:20251231T153000
DTEND;TZID=UTC:20251231T223000
DTSTAMP:20260423T221026
CREATED:20251223T182904Z
LAST-MODIFIED:20251223T182904Z
UID:5060-1767195000-1767220200@isccpa.org
SUMMARY:Family Movie Night and Potluck Dinner
DESCRIPTION:Assalaamu Alaikum. This is the third of the 3 events during the holiday break \nWe’re excited to invite everyone to a potluck dinner and movie night! \n🗓 Wednesday \, December 31st\n🕰 Isha (Prayer at 7:30 PM) \nCome and spend some fun time with the community watching a family oriented movie – to be finalized soon \nPlease RSVP here:\nhttps://forms.gle/iiT5mf5Byqar2w3t9
URL:https://isccpa.org/event/family-movie-night-and-potluck-dinner/
LOCATION:ISCC Activity Hall\, 1001 Pottstown Pike\, West Chester\, PA\, 19380\, United States
CATEGORIES:Dynamic
ATTACH;FMTTYPE=image/jpeg:https://isccpa.org/wp-content/uploads/2025/12/MovieNight.jpeg
ORGANIZER;CN="ISCC":MAILTO:isccpaboard@yahoo.com
END:VEVENT
BEGIN:VEVENT
DTSTART;TZID=UTC:20251229T165500
DTEND;TZID=UTC:20251229T183000
DTSTAMP:20260423T221026
CREATED:20251221T032410Z
LAST-MODIFIED:20251226T231452Z
UID:5053-1767027300-1767033000@isccpa.org
SUMMARY:Youth Girls Paint and Sip
DESCRIPTION:Assalaamu Alaikum. This is our first of 3 events during the holiday break. \nWe’re excited to invite our youth girls (ages 13+) to a fun and meaningful Paint & Sip event! Join us for an evening of halaqa\, painting\, and mocktails in a relaxed and creative environment. \n🗓 Friday\, December 26th\n🕰 Maghrib (Prayer at 4:55 PM) \nThis is a great opportunity to connect\, reflect\, and express creativity together. 🎨✨\nPlease RSVP ahead of time so we can plan accordingly. \nRSVP here: https://forms.gle/syGDybzcuzTV3zna9
URL:https://isccpa.org/event/youth-girls-paint-and-sip/
LOCATION:ISCC Activity Hall\, 1001 Pottstown Pike\, West Chester\, PA\, 19380\, United States
CATEGORIES:Dynamic
ATTACH;FMTTYPE=image/jpeg:https://isccpa.org/wp-content/uploads/2025/12/YouthPaint.jpeg
ORGANIZER;CN="ISCC":MAILTO:isccpaboard@yahoo.com
END:VEVENT
BEGIN:VEVENT
DTSTART;TZID=UTC:20251228T170000
DTEND;TZID=UTC:20251228T190000
DTSTAMP:20260423T221026
CREATED:20251222T021820Z
LAST-MODIFIED:20251222T021820Z
UID:5056-1766941200-1766948400@isccpa.org
SUMMARY:Youth Boys Night Halaqa and Sports
DESCRIPTION:Assalaamu Alaikum. This is our second of 3 events during the holiday break \nWe’re excited to invite our youth boys (ages 13+) to a fun and meaningful halaqa and game night! Join us for an evening of halaqa\, games\, and brotherhood. \n🗓 Sunday\, December 28th\n🕰 Maghrib (Prayer at 4:55 PM) \nThis is a great opportunity to connect\, reflect\, and spend time together \nPlease RSVP ahead of time so we can plan accordingly. \nRSVP here:https://forms.gle/2DpjHfMKeLYmudMn8
URL:https://isccpa.org/event/youth-boys-night-halaqa-and-sports/
LOCATION:ISCC Activity Hall\, 1001 Pottstown Pike\, West Chester\, PA\, 19380\, United States
CATEGORIES:Dynamic
ATTACH;FMTTYPE=image/jpeg:https://isccpa.org/wp-content/uploads/2025/12/YouthBiys.jpeg
ORGANIZER;CN="ISCC":MAILTO:isccpaboard@yahoo.com
END:VEVENT
BEGIN:VEVENT
DTSTART;VALUE=DATE:20251223
DTEND;VALUE=DATE:20251225
DTSTAMP:20260423T221026
CREATED:20251215T171503Z
LAST-MODIFIED:20251215T172428Z
UID:5028-1766448000-1766620799@isccpa.org
SUMMARY:Convert Conference
DESCRIPTION:Assalaamu Alaikum. Please save the date for this event – January 23rd & 24th at the Khair Center \n✨ Convert Conference – Save the Date! \nWe are excited to host a special gathering dedicated for converts — a space of learning\, connection\, and spiritual growth. \n🌿 Theme: Tawakkul – Trust in Allah Through Every Step \n👉 Please invite your convert friends\, neighbors\, coworkers\, or relatives.\nThis event is not limited to Khair — any convert from any community is welcome\, and they may bring their families. \nMore details coming soon!
URL:https://isccpa.org/event/convert-conference/
LOCATION:Khair Community Center\, 1079 Egypt Rd\, Phoenixville\, PA\, 19460\, United States
CATEGORIES:Dynamic
ATTACH;FMTTYPE=image/jpeg:https://isccpa.org/wp-content/uploads/2025/12/ConvertConference.jpeg
ORGANIZER;CN="Khair Community Center":MAILTO:info@khaircenter.org
END:VEVENT
BEGIN:VEVENT
DTSTART;TZID=UTC:20251220T173000
DTEND;TZID=UTC:20251220T190000
DTSTAMP:20260423T221026
CREATED:20251215T172638Z
LAST-MODIFIED:20251215T172638Z
UID:5039-1766251800-1766257200@isccpa.org
SUMMARY:Quran and Nasheed
DESCRIPTION:We’d like to share information about an upcoming community program taking place at Masjid Ar Rahman this Saturday\, December 20th. \nThe evening program will be held from 5:30 pm to 7:00 pm and will feature melodious Qur’an recitation and nasheed by: \n– Qari Abraar Jamaluddin\n– Ustadh Faraz Bootwala\n– Qari Ahmed Ali\n– Qari Abdullah Dawood \nThe program will be followed by Isha Salah\, in shā’ Allāh. \n📍 Location:\nMasjid Ar Rahman\n723 Merchant St.\, Coatesville\, PA 19320 \n🍽️ Food will be available for purchase. \nCommunity members are welcome to attend and benefit from an evening of uplifting recitation and reminders.
URL:https://isccpa.org/event/quran-and-nasheed/
LOCATION:Masjid-Ar-Rahman\, 723 Merchant St\, Coatesville\, PA\, 19320\, United States
CATEGORIES:Dynamic
ATTACH;FMTTYPE=image/jpeg:https://isccpa.org/wp-content/uploads/2025/12/QuranNasheed.jpeg
ORGANIZER;CN="Masjid-Ar-Rahman":MAILTO:Masjidarrahmancoatesville@gmail.com
END:VEVENT
BEGIN:VEVENT
DTSTART;TZID=UTC:20251212T180000
DTEND;TZID=UTC:20251212T190000
DTSTAMP:20260423T221026
CREATED:20251210T232813Z
LAST-MODIFIED:20251212T212819Z
UID:4987-1765562400-1765566000@isccpa.org
SUMMARY:Sisters Seerah lecture by Sister Khadija
DESCRIPTION:3rd Friday of the month at 6pm
URL:https://isccpa.org/event/sisters-seerah-lecture-by-sister-khadija/
LOCATION:ISCC Prayer Hall\, 1001 Pottstown Pike\, West Chester\, PA\, 19380\, United States
CATEGORIES:Regular
ORGANIZER;CN="ISCC":MAILTO:isccpaboard@yahoo.com
END:VEVENT
BEGIN:VEVENT
DTSTART;VALUE=DATE:20251212
DTEND;VALUE=DATE:20251215
DTSTAMP:20260423T221026
CREATED:20251208T180847Z
LAST-MODIFIED:20251210T231408Z
UID:4951-1765497600-1765756799@isccpa.org
SUMMARY:On Hatred AND ENVY
DESCRIPTION:Family Trip + Learning & Spiritual Retreat in rural Pennsylvania \nAl-Maqasid Seminary: Allentown\, PA \nTwo options:\n* Saturday-only\n* Full weekend \nSome ISCC youth group mentors and students are attending. If you’re interested\, sign up first and then reach out for Airbnb and car-pool arrangements. \nhttps://www.tickettailor.com/checkout/view-event/id/6993541/chk/2217/?modal_widget=true&widget=true
URL:https://isccpa.org/event/on-hatred-and-envy/
LOCATION:PA
CATEGORIES:Dynamic
ATTACH;FMTTYPE=image/jpeg:https://isccpa.org/wp-content/uploads/2025/12/WhatsApp-Image-2025-12-04-at-9.53.15-AM.jpeg
END:VEVENT
END:VCALENDAR