BEGIN:VCALENDAR
VERSION:2.0
PRODID:-//ISCC - ECPv6.15.20//NONSGML v1.0//EN
CALSCALE:GREGORIAN
METHOD:PUBLISH
X-WR-CALNAME:ISCC
X-ORIGINAL-URL:https://isccpa.org
X-WR-CALDESC:Events for ISCC
REFRESH-INTERVAL;VALUE=DURATION:PT1H
X-Robots-Tag:noindex
X-PUBLISHED-TTL:PT1H
BEGIN:VTIMEZONE
TZID:UTC
BEGIN:STANDARD
TZOFFSETFROM:+0000
TZOFFSETTO:+0000
TZNAME:UTC
DTSTART:20250101T000000
END:STANDARD
END:VTIMEZONE
BEGIN:VEVENT
DTSTART;TZID=UTC:20260329T140000
DTEND;TZID=UTC:20260329T160000
DTSTAMP:20260424T000857
CREATED:20260319T212115Z
LAST-MODIFIED:20260319T212115Z
UID:5192-1774792800-1774800000@isccpa.org
SUMMARY:Movie Day Fundraiser
DESCRIPTION:AMAL FOR YEMEN PRESENTS\nKids Movie Day\nFundraiser for Orphan Refugees in Yemen!\nJoin us for a fun\, family-friendly movie night and help bring joy and support to orphans in Yemen. \nEvent Details\n•    Date: Sunday\, March 29\n•    Time: 2:00 pm – 4:00 pm\n•    Location: ISCC – Islamic\nSociety of Chester County\n•    Address: 1001 Pottstown Pike\, West Chester\, PA 19380 \nMovie: Madagascar\nFood and drinks will be provided \nEntry\n•    $10 per person\n•    All proceeds go to orphans in Yemen through Helping Hand Relief and Development \nhttps://forms.gle/DzUnvZKYxPVBbsCZ7
URL:https://isccpa.org/event/movie-day-fundraiser/
LOCATION:ISCC Activity Hall\, 1001 Pottstown Pike\, West Chester\, PA\, 19380\, United States
CATEGORIES:Dynamic
ATTACH;FMTTYPE=image/jpeg:https://isccpa.org/wp-content/uploads/2026/03/WhatsApp-Image-2026-03-17-at-12.48.13-PM.jpeg
ORGANIZER;CN="ISCC":MAILTO:isccpaboard@yahoo.com
END:VEVENT
BEGIN:VEVENT
DTSTART;TZID=UTC:20260424T173000
DTEND;TZID=UTC:20260424T210000
DTSTAMP:20260424T000857
CREATED:20260416T014209Z
LAST-MODIFIED:20260416T014209Z
UID:5243-1777051800-1777064400@isccpa.org
SUMMARY:Quran and Nasheed Night
DESCRIPTION:Assalamu Alaikum\, \nWe invite you to join us on Friday\, April 24th\, for a Qur’an & Nasheed Night! Join us for a peaceful evening of Qur’an recitation and uplifting nasheeds. A night to reconnect spiritually and spend time with community. We’ll have a coffee cart and food vendors! \nLocation: ISCC\nTime: 5:30 PM – 9 PM\nAddress: 1001 Pottstown Pike\, West Chester\, PA 19380 \nRSVP DEADLINE: Wednesday\, APRIL 22ND. \nhttps://docs.google.com/forms/d/e/1FAIpQLSedCyDrzZjmryatsD1OJ0wtka7E5vahp5nbl-FIDw3EoE9dsw/viewform
URL:https://isccpa.org/event/quran-and-nasheed-night/
LOCATION:ISCC Prayer Hall\, 1001 Pottstown Pike\, West Chester\, PA\, 19380\, United States
CATEGORIES:Dynamic
ATTACH;FMTTYPE=image/jpeg:https://isccpa.org/wp-content/uploads/2026/04/WhatsApp-Image-2026-04-15-at-6.53.01-PM.jpeg
ORGANIZER;CN="ISCC":MAILTO:isccpaboard@yahoo.com
END:VEVENT
BEGIN:VEVENT
DTSTART;TZID=UTC:20260502T173000
DTEND;TZID=UTC:20260502T183000
DTSTAMP:20260424T000857
CREATED:20260423T122200Z
LAST-MODIFIED:20260423T122200Z
UID:5247-1777743000-1777746600@isccpa.org
SUMMARY:Monthly Halaqa
DESCRIPTION:Assalamu Alaikum everyone\, \nWe’re excited to invite you to our *May Monthly Halaqa* with *Br. Faraz Bootwala and Dr. Mian Jan* on Saturday\, May 2nd at 5:30 PM inshaAllah. \nThis month’s discussion will cover *Deen and Diet as well as Prevention of heart disease\, risk factors and calculating your future health risk*. \nPlease join us and bring your family and friends. We look forward to seeing you all there! \nRSVP: https://forms.gle/vdBmoLPmrSHcyVRr5 \n📍 ISCC – 1001 Pottstown Pike\, West Chester\, PA 19380\n🗓️ Saturday\, May 2nd\n⏰ 5:30 PM
URL:https://isccpa.org/event/monthly-halaqa-3/
LOCATION:ISCC Prayer Hall\, 1001 Pottstown Pike\, West Chester\, PA\, 19380\, United States
CATEGORIES:Dynamic
ATTACH;FMTTYPE=image/jpeg:https://isccpa.org/wp-content/uploads/2026/04/WhatsApp-Image-2026-04-21-at-10.17.22-AM.jpeg
ORGANIZER;CN="ISCC":MAILTO:isccpaboard@yahoo.com
END:VEVENT
BEGIN:VEVENT
DTSTART;TZID=UTC:20260722T090000
DTEND;TZID=UTC:20260722T150000
DTSTAMP:20260424T000857
CREATED:20260209T185248Z
LAST-MODIFIED:20260315T185831Z
UID:5151-1784710800-1784732400@isccpa.org
SUMMARY:ISCC Camp Noor
DESCRIPTION:Assalamualaikum Everyone! \nWe’re excited to announce that Camp Noor is returning in Summer 2026—bigger and better\, inShaaAllah ! This year\, we’re expanding our volunteer team\, introducing themed weeks\, and offering new experiences\, all while staying rooted in our fundamental Islamic teachings. \n📍 Location: 1001 Pottstown Pike\, West Chester\, PA\n📅 Dates: June 22nd – July 16th\n🕘 Time: Monday–Thursday | 9 AM – 3 PM \n👧🏽👦🏼 Ages: 4–12 \n💵 Cost: $175 per week – register for one\, two\, three or all four weeks! \nCamp Highlights:\n📖 Week 1: Sabr\n🎨 Week 2: Love\n🧠 Week 3: Superhero\n⚽ Week 4: Character \n🚨 Limited to just 20 campers a week!\n🗓 Registration is open \n👉 Reserve your child’s spot today:\n🔗 Register Here: https://forms.gle/c4qN9riQ7WP3qzgF8 \n💳 Pay via Venmo\, PayPal\, cash\, or checks made out to ISCC\nPlease list Camp Noor as a comment on online payments\nℹ️ More information is available in the link below. \nhttps://docs.google.com/document/d/1et0cXZBgb-n9nWnLmgT0CE91toFGMxiADRvKzEz_-B4/edit?usp=sharing \nWe look forward to a wonderful summer together\, insha’Allah
URL:https://isccpa.org/event/isccs-camp-noor/
LOCATION:PA
CATEGORIES:Dynamic
ATTACH;FMTTYPE=image/jpeg:https://isccpa.org/wp-content/uploads/2026/02/WhatsApp-Image-2026-03-15-at-12.06.35-PM.jpeg
ORGANIZER;CN="ISCC":MAILTO:isccpaboard@yahoo.com
END:VEVENT
BEGIN:VEVENT
DTSTART;TZID=UTC:20261210T093000
DTEND;TZID=UTC:20261210T103000
DTSTAMP:20260424T000857
CREATED:20251210T232515Z
LAST-MODIFIED:20251219T201925Z
UID:4983-1796895000-1796898600@isccpa.org
SUMMARY:Sisters fitness group activity
DESCRIPTION:Every Monday and Wednesday at 9:30am
URL:https://isccpa.org/event/sisters-fitness-group-activity/
LOCATION:ISCC Prayer Hall\, 1001 Pottstown Pike\, West Chester\, PA\, 19380\, United States
CATEGORIES:Regular
ATTACH;FMTTYPE=image/png:https://isccpa.org/wp-content/uploads/2025/12/Fitness.png
ORGANIZER;CN="ISCC":MAILTO:isccpaboard@yahoo.com
END:VEVENT
BEGIN:VEVENT
DTSTART;TZID=UTC:20261220T100000
DTEND;TZID=UTC:20261220T110000
DTSTAMP:20260424T000857
CREATED:20251212T213510Z
LAST-MODIFIED:20251216T022643Z
UID:5021-1797760800-1797764400@isccpa.org
SUMMARY:Sunday School and Youth Group
DESCRIPTION:Every Sunday from September to May at 10 AM to 1 PM
URL:https://isccpa.org/event/sunday-school-youth-group/
LOCATION:ISCC Activity Hall\, 1001 Pottstown Pike\, West Chester\, PA\, 19380\, United States
CATEGORIES:Regular
ATTACH;FMTTYPE=image/png:https://isccpa.org/wp-content/uploads/2025/12/School.png
ORGANIZER;CN="ISCC":MAILTO:isccpaboard@yahoo.com
END:VEVENT
BEGIN:VEVENT
DTSTART;TZID=UTC:20271201T063000
DTEND;TZID=UTC:20271201T073000
DTSTAMP:20260424T000857
CREATED:20251210T232045Z
LAST-MODIFIED:20251216T021913Z
UID:4979-1827642600-1827646200@isccpa.org
SUMMARY:Short talk by Ustadh Faraz followed by potluck breakfast
DESCRIPTION:Every Saturday after Fajr
URL:https://isccpa.org/event/short-talk-by-ustadh-faraz-followed-by-potluck-breakfast/
LOCATION:ISCC Prayer Hall\, 1001 Pottstown Pike\, West Chester\, PA\, 19380\, United States
CATEGORIES:Regular
ATTACH;FMTTYPE=image/png:https://isccpa.org/wp-content/uploads/2025/12/Halaqa.png
ORGANIZER;CN="ISCC":MAILTO:isccpaboard@yahoo.com
END:VEVENT
BEGIN:VEVENT
DTSTART;TZID=UTC:20271201T200000
DTEND;TZID=UTC:20271201T210000
DTSTAMP:20260424T000857
CREATED:20251210T231733Z
LAST-MODIFIED:20251216T022007Z
UID:4977-1827691200-1827694800@isccpa.org
SUMMARY:Short talk by Ustadh Faraz
DESCRIPTION:Every Tuesday after Isha
URL:https://isccpa.org/event/short-talk-by-ustadh-faraz/
LOCATION:ISCC Prayer Hall\, 1001 Pottstown Pike\, West Chester\, PA\, 19380\, United States
CATEGORIES:Regular
ATTACH;FMTTYPE=image/png:https://isccpa.org/wp-content/uploads/2025/12/lecture_speaker.png
ORGANIZER;CN="ISCC":MAILTO:isccpaboard@yahoo.com
END:VEVENT
BEGIN:VEVENT
DTSTART;TZID=UTC:20271214T170000
DTEND;TZID=UTC:20271214T173000
DTSTAMP:20260424T000857
CREATED:20251213T032526Z
LAST-MODIFIED:20260312T220601Z
UID:5024-1828803600-1828805400@isccpa.org
SUMMARY:Childrens Story Time
DESCRIPTION:Every third Friday 5 PM \nChildren’s Islamic Story Time \nFun crafts \nMake new friends \nLearn valuable lessons \nPizza for kids
URL:https://isccpa.org/event/childrens-story-time/
LOCATION:ISCC Activity Hall\, 1001 Pottstown Pike\, West Chester\, PA\, 19380\, United States
CATEGORIES:Regular
ATTACH;FMTTYPE=image/png:https://isccpa.org/wp-content/uploads/2025/12/StoryBook.png
ORGANIZER;CN="ISCC":MAILTO:isccpaboard@yahoo.com
END:VEVENT
END:VCALENDAR